Package: interactiveDisplayBase Version: 1.46.0 Command: /home/biocbuild/bbs-3.21-bioc/R/bin/R CMD INSTALL interactiveDisplayBase StartedAt: 2025-04-27 15:13:53 -0400 (Sun, 27 Apr 2025) EndedAt: 2025-04-27 15:13:56 -0400 (Sun, 27 Apr 2025) EllapsedTime: 2.9 seconds RetCode: 0 Status: OK