Package: interactiveDisplayBase Version: 1.46.0 Command: /home/biocbuild/bbs-3.21-bioc/R/bin/R CMD build --keep-empty-dirs --no-resave-data interactiveDisplayBase StartedAt: 2025-04-27 17:44:05 -0400 (Sun, 27 Apr 2025) EndedAt: 2025-04-27 17:44:10 -0400 (Sun, 27 Apr 2025) EllapsedTime: 5.0 seconds RetCode: 0 Status: OK PackageFile: interactiveDisplayBase_1.46.0.tar.gz PackageFileSize: 7.98 KiB