Package: interactiveDisplayBase Version: 1.46.0 Command: /Library/Frameworks/R.framework/Resources/bin/R CMD INSTALL interactiveDisplayBase StartedAt: 2025-04-21 15:12:04 -0400 (Mon, 21 Apr 2025) EndedAt: 2025-04-21 15:12:11 -0400 (Mon, 21 Apr 2025) EllapsedTime: 6.9 seconds RetCode: 0 Status: OK