Package: interactiveDisplayBase Version: 1.46.0 Command: /Library/Frameworks/R.framework/Resources/bin/R CMD check --install=check:interactiveDisplayBase.install-out.txt --library=/Library/Frameworks/R.framework/Resources/library --no-vignettes --timings interactiveDisplayBase_1.46.0.tar.gz StartedAt: 2025-04-21 21:23:48 -0400 (Mon, 21 Apr 2025) EndedAt: 2025-04-21 21:24:27 -0400 (Mon, 21 Apr 2025) EllapsedTime: 39.0 seconds RetCode: 0 Status: OK CheckDir: interactiveDisplayBase.Rcheck Warnings: 0