Package: interactiveDisplayBase Version: 1.46.0 Command: rm -rf interactiveDisplayBase.buildbin-libdir && mkdir interactiveDisplayBase.buildbin-libdir && /Users/biocbuild/BBS/utils/build-universal.sh interactiveDisplayBase_1.46.0.tar.gz /Library/Frameworks/R.framework/Resources/bin/R interactiveDisplayBase.buildbin-libdir StartedAt: 2025-04-22 00:50:55 -0400 (Tue, 22 Apr 2025) EndedAt: 2025-04-22 00:51:03 -0400 (Tue, 22 Apr 2025) EllapsedTime: 8.1 seconds RetCode: 0 Status: OK PackageFile: interactiveDisplayBase_1.46.0.tgz PackageFileSize: 28.33 KiB