Package: interactiveDisplayBase Version: 1.46.0 Command: /home/biocbuild/R/R/bin/R CMD INSTALL interactiveDisplayBase StartedAt: 2025-04-21 20:25:50 -0000 (Mon, 21 Apr 2025) EndedAt: 2025-04-21 20:25:56 -0000 (Mon, 21 Apr 2025) EllapsedTime: 5.5 seconds RetCode: 0 Status: OK