Package: interactiveDisplayBase Version: 1.46.0 Command: /Library/Frameworks/R.framework/Resources/bin/R CMD INSTALL interactiveDisplayBase StartedAt: 2025-04-21 15:10:19 -0400 (Mon, 21 Apr 2025) EndedAt: 2025-04-21 15:10:21 -0400 (Mon, 21 Apr 2025) EllapsedTime: 2.4 seconds RetCode: 0 Status: OK