Package: interactiveDisplayBase Version: 1.46.0 Command: /Library/Frameworks/R.framework/Resources/bin/R CMD build --keep-empty-dirs --no-resave-data interactiveDisplayBase StartedAt: 2025-04-21 16:43:10 -0400 (Mon, 21 Apr 2025) EndedAt: 2025-04-21 16:43:13 -0400 (Mon, 21 Apr 2025) EllapsedTime: 3.0 seconds RetCode: 0 Status: OK PackageFile: interactiveDisplayBase_1.46.0.tar.gz PackageFileSize: 7.985 KiB