Package: interactiveDisplayBase Version: 1.46.0 Command: rm -rf interactiveDisplayBase.buildbin-libdir && mkdir interactiveDisplayBase.buildbin-libdir && /Users/biocbuild/BBS/utils/build-universal.sh interactiveDisplayBase_1.46.0.tar.gz /Library/Frameworks/R.framework/Resources/bin/R interactiveDisplayBase.buildbin-libdir StartedAt: 2025-04-21 22:39:09 -0400 (Mon, 21 Apr 2025) EndedAt: 2025-04-21 22:39:12 -0400 (Mon, 21 Apr 2025) EllapsedTime: 3.0 seconds RetCode: 0 Status: OK PackageFile: interactiveDisplayBase_1.46.0.tgz PackageFileSize: 28.61 KiB