Package: interactiveDisplayBase Version: 1.46.0 Command: /Library/Frameworks/R.framework/Resources/bin/R CMD INSTALL interactiveDisplayBase StartedAt: 2025-04-24 18:13:52 -0400 (Thu, 24 Apr 2025) EndedAt: 2025-04-24 18:13:56 -0400 (Thu, 24 Apr 2025) EllapsedTime: 4.0 seconds RetCode: 0 Status: OK