Package: interactiveDisplayBase Version: 1.46.0 Command: /Library/Frameworks/R.framework/Resources/bin/R CMD check --install=check:interactiveDisplayBase.install-out.txt --library=/Library/Frameworks/R.framework/Resources/library --no-vignettes --timings interactiveDisplayBase_1.46.0.tar.gz StartedAt: 2025-04-26 00:40:30 -0400 (Sat, 26 Apr 2025) EndedAt: 2025-04-26 00:41:04 -0400 (Sat, 26 Apr 2025) EllapsedTime: 34.8 seconds RetCode: 0 Status: OK CheckDir: interactiveDisplayBase.Rcheck Warnings: 0