Package: interactiveDisplayBase Version: 1.46.0 Command: /Library/Frameworks/R.framework/Resources/bin/R CMD build --keep-empty-dirs --no-resave-data interactiveDisplayBase StartedAt: 2025-04-25 03:50:14 -0400 (Fri, 25 Apr 2025) EndedAt: 2025-04-25 03:50:21 -0400 (Fri, 25 Apr 2025) EllapsedTime: 6.8 seconds RetCode: 0 Status: OK PackageFile: interactiveDisplayBase_1.46.0.tar.gz PackageFileSize: 7.987 KiB