Package: interactiveDisplayBase Version: 1.46.0 Command: rm -rf interactiveDisplayBase.buildbin-libdir && mkdir interactiveDisplayBase.buildbin-libdir && /Users/biocbuild/BBS/utils/build-universal.sh interactiveDisplayBase_1.46.0.tar.gz /Library/Frameworks/R.framework/Resources/bin/R interactiveDisplayBase.buildbin-libdir StartedAt: 2025-04-26 17:43:31 -0400 (Sat, 26 Apr 2025) EndedAt: 2025-04-26 17:43:37 -0400 (Sat, 26 Apr 2025) EllapsedTime: 5.6 seconds RetCode: 1 Status: ERROR PackageFile: None PackageFileSize: NA