############################################################################## ############################################################################## ### ### Running command: ### ### rm -rf interactiveDisplayBase.buildbin-libdir && mkdir interactiveDisplayBase.buildbin-libdir && /Users/biocbuild/BBS/utils/build-universal.sh interactiveDisplayBase_1.46.0.tar.gz /Library/Frameworks/R.framework/Resources/bin/R interactiveDisplayBase.buildbin-libdir ### ############################################################################## ############################################################################## >>>>>>> >>>>>>> INSTALLATION WITH 'R CMD INSTALL --preclean --no-multiarch --library=interactiveDisplayBase.buildbin-libdir interactiveDisplayBase_1.46.0.tar.gz' >>>>>>> * installing *source* package ‘interactiveDisplayBase’ ... ** this is package ‘interactiveDisplayBase’ version ‘1.46.0’ ** using staged installation ** R ** inst ** byte-compile and prepare package for lazy loading ** help *** installing help indices ** building package indices ** installing vignettes ** testing if installed package can be loaded from temporary location ** testing if installed package can be loaded from final location ** testing if installed package keeps a record of temporary installation path * DONE (interactiveDisplayBase) chown: interactiveDisplayBase.buildbin-libdir/interactiveDisplayBase/NEWS.Rd: Operation not permitted chown: interactiveDisplayBase.buildbin-libdir/interactiveDisplayBase/R/interactiveDisplayBase: Operation not permitted chown: interactiveDisplayBase.buildbin-libdir/interactiveDisplayBase/R/interactiveDisplayBase.rdb: Operation not permitted chown: interactiveDisplayBase.buildbin-libdir/interactiveDisplayBase/R/interactiveDisplayBase.rdx: Operation not permitted chown: interactiveDisplayBase.buildbin-libdir/interactiveDisplayBase/R: Operation not permitted chown: interactiveDisplayBase.buildbin-libdir/interactiveDisplayBase/Meta/vignette.rds: Operation not permitted chown: interactiveDisplayBase.buildbin-libdir/interactiveDisplayBase/Meta/links.rds: Operation not permitted chown: interactiveDisplayBase.buildbin-libdir/interactiveDisplayBase/Meta/features.rds: Operation not permitted chown: interactiveDisplayBase.buildbin-libdir/interactiveDisplayBase/Meta/nsInfo.rds: Operation not permitted chown: interactiveDisplayBase.buildbin-libdir/interactiveDisplayBase/Meta/package.rds: Operation not permitted chown: interactiveDisplayBase.buildbin-libdir/interactiveDisplayBase/Meta/hsearch.rds: Operation not permitted chown: interactiveDisplayBase.buildbin-libdir/interactiveDisplayBase/Meta/Rd.rds: Operation not permitted chown: interactiveDisplayBase.buildbin-libdir/interactiveDisplayBase/Meta: Operation not permitted chown: interactiveDisplayBase.buildbin-libdir/interactiveDisplayBase/NAMESPACE: Operation not permitted chown: interactiveDisplayBase.buildbin-libdir/interactiveDisplayBase/html/R.css: Operation not permitted chown: interactiveDisplayBase.buildbin-libdir/interactiveDisplayBase/html/00Index.html: Operation not permitted chown: interactiveDisplayBase.buildbin-libdir/interactiveDisplayBase/html: Operation not permitted chown: interactiveDisplayBase.buildbin-libdir/interactiveDisplayBase/script/test.R: Operation not permitted chown: interactiveDisplayBase.buildbin-libdir/interactiveDisplayBase/script: Operation not permitted chown: interactiveDisplayBase.buildbin-libdir/interactiveDisplayBase/www/css/interactiveDisplayBase.css: Operation not permitted chown: interactiveDisplayBase.buildbin-libdir/interactiveDisplayBase/www/css: Operation not permitted chown: interactiveDisplayBase.buildbin-libdir/interactiveDisplayBase/www/js/DTbinding.js: Operation not permitted chown: interactiveDisplayBase.buildbin-libdir/interactiveDisplayBase/www/js: Operation not permitted chown: interactiveDisplayBase.buildbin-libdir/interactiveDisplayBase/www: Operation not permitted chown: interactiveDisplayBase.buildbin-libdir/interactiveDisplayBase/DESCRIPTION: Operation not permitted chown: interactiveDisplayBase.buildbin-libdir/interactiveDisplayBase/INDEX: Operation not permitted chown: interactiveDisplayBase.buildbin-libdir/interactiveDisplayBase/doc/index.html: Operation not permitted chown: interactiveDisplayBase.buildbin-libdir/interactiveDisplayBase/doc/interactiveDisplayBase.html: Operation not permitted chown: interactiveDisplayBase.buildbin-libdir/interactiveDisplayBase/doc/interactiveDisplayBase.Rmd: Operation not permitted chown: interactiveDisplayBase.buildbin-libdir/interactiveDisplayBase/doc/interactiveDisplayBase.R: Operation not permitted chown: interactiveDisplayBase.buildbin-libdir/interactiveDisplayBase/doc: Operation not permitted chown: interactiveDisplayBase.buildbin-libdir/interactiveDisplayBase/help/AnIndex: Operation not permitted chown: interactiveDisplayBase.buildbin-libdir/interactiveDisplayBase/help/aliases.rds: Operation not permitted chown: interactiveDisplayBase.buildbin-libdir/interactiveDisplayBase/help/interactiveDisplayBase.rdb: Operation not permitted chown: interactiveDisplayBase.buildbin-libdir/interactiveDisplayBase/help/paths.rds: Operation not permitted chown: interactiveDisplayBase.buildbin-libdir/interactiveDisplayBase/help/interactiveDisplayBase.rdx: Operation not permitted chown: interactiveDisplayBase.buildbin-libdir/interactiveDisplayBase/help: Operation not permitted chown: interactiveDisplayBase.buildbin-libdir/interactiveDisplayBase: Operation not permitted