Package: geNetClassifier Version: 1.48.0 Command: /Library/Frameworks/R.framework/Resources/bin/R CMD build --keep-empty-dirs --no-resave-data geNetClassifier StartedAt: 2025-04-21 16:54:03 -0400 (Mon, 21 Apr 2025) EndedAt: 2025-04-21 16:54:27 -0400 (Mon, 21 Apr 2025) EllapsedTime: 24.1 seconds RetCode: 0 Status: OK PackageFile: geNetClassifier_1.48.0.tar.gz PackageFileSize: 3.939 MiB