Package: geNetClassifier Version: 1.48.0 Command: rm -rf geNetClassifier.buildbin-libdir && mkdir geNetClassifier.buildbin-libdir && /Users/biocbuild/BBS/utils/build-universal.sh geNetClassifier_1.48.0.tar.gz /Library/Frameworks/R.framework/Resources/bin/R geNetClassifier.buildbin-libdir StartedAt: 2025-04-22 00:46:54 -0400 (Tue, 22 Apr 2025) EndedAt: 2025-04-22 00:47:10 -0400 (Tue, 22 Apr 2025) EllapsedTime: 16.1 seconds RetCode: 0 Status: OK PackageFile: geNetClassifier_1.48.0.tgz PackageFileSize: 3.234 MiB