Package: geNetClassifier Version: 1.48.0 Command: /home/biocbuild/R/R/bin/R CMD INSTALL geNetClassifier StartedAt: 2025-04-21 20:26:20 -0000 (Mon, 21 Apr 2025) EndedAt: 2025-04-21 20:26:34 -0000 (Mon, 21 Apr 2025) EllapsedTime: 14.0 seconds RetCode: 0 Status: OK