Package: epidecodeR Version: 1.16.0 Command: /Library/Frameworks/R.framework/Resources/bin/R CMD INSTALL epidecodeR StartedAt: 2025-04-21 15:16:02 -0400 (Mon, 21 Apr 2025) EndedAt: 2025-04-21 15:16:15 -0400 (Mon, 21 Apr 2025) EllapsedTime: 12.9 seconds RetCode: 0 Status: OK