Package: epidecodeR Version: 1.16.0 Command: /Library/Frameworks/R.framework/Resources/bin/R CMD build --keep-empty-dirs --no-resave-data epidecodeR StartedAt: 2025-04-21 16:16:27 -0400 (Mon, 21 Apr 2025) EndedAt: 2025-04-21 16:16:50 -0400 (Mon, 21 Apr 2025) EllapsedTime: 23.2 seconds RetCode: 0 Status: OK PackageFile: epidecodeR_1.16.0.tar.gz PackageFileSize: 2.067 MiB