Package: diffuStats Version: 1.28.0 Command: /home/biocbuild/bbs-3.21-bioc/R/bin/R CMD INSTALL diffuStats StartedAt: 2025-04-30 15:09:07 -0400 (Wed, 30 Apr 2025) EndedAt: 2025-04-30 15:09:40 -0400 (Wed, 30 Apr 2025) EllapsedTime: 32.9 seconds RetCode: 0 Status: OK