Package: diffuStats Version: 1.28.0 Command: /home/biocbuild/bbs-3.21-bioc/R/bin/R CMD check --install=check:diffuStats.install-out.txt --library=/home/biocbuild/bbs-3.21-bioc/R/site-library --timings diffuStats_1.28.0.tar.gz StartedAt: 2025-04-30 21:55:21 -0400 (Wed, 30 Apr 2025) EndedAt: 2025-04-30 21:56:48 -0400 (Wed, 30 Apr 2025) EllapsedTime: 87.1 seconds RetCode: 0 Status: OK CheckDir: diffuStats.Rcheck Warnings: 0