Package: diffuStats Version: 1.28.0 Command: /Library/Frameworks/R.framework/Resources/bin/R CMD INSTALL diffuStats StartedAt: 2025-04-28 18:45:23 -0400 (Mon, 28 Apr 2025) EndedAt: 2025-04-28 18:46:39 -0400 (Mon, 28 Apr 2025) EllapsedTime: 75.9 seconds RetCode: 0 Status: OK