Package: diffuStats Version: 1.28.0 Command: /Library/Frameworks/R.framework/Resources/bin/R CMD check --install=check:diffuStats.install-out.txt --library=/Library/Frameworks/R.framework/Resources/library --no-vignettes --timings diffuStats_1.28.0.tar.gz StartedAt: 2025-04-29 06:07:35 -0400 (Tue, 29 Apr 2025) EndedAt: 2025-04-29 06:10:10 -0400 (Tue, 29 Apr 2025) EllapsedTime: 154.9 seconds RetCode: 0 Status: OK CheckDir: diffuStats.Rcheck Warnings: 0