Package: diffuStats Version: 1.28.0 Command: rm -rf diffuStats.buildbin-libdir && mkdir diffuStats.buildbin-libdir && /Users/biocbuild/BBS/utils/build-universal.sh diffuStats_1.28.0.tar.gz /Library/Frameworks/R.framework/Resources/bin/R diffuStats.buildbin-libdir StartedAt: 2025-04-29 16:20:53 -0400 (Tue, 29 Apr 2025) EndedAt: 2025-04-29 16:21:52 -0400 (Tue, 29 Apr 2025) EllapsedTime: 58.5 seconds RetCode: 0 Status: OK PackageFile: diffuStats_1.28.0.tgz PackageFileSize: 1.435 MiB