Package: diffuStats Version: 1.28.0 Command: /home/biocbuild/R/R/bin/R CMD INSTALL diffuStats StartedAt: 2025-04-21 20:18:39 -0000 (Mon, 21 Apr 2025) EndedAt: 2025-04-21 20:19:35 -0000 (Mon, 21 Apr 2025) EllapsedTime: 55.8 seconds RetCode: 0 Status: OK