Package: diffuStats Version: 1.28.0 Command: /home/biocbuild/R/R/bin/R CMD build --keep-empty-dirs --no-resave-data diffuStats StartedAt: 2025-04-22 00:15:26 -0000 (Tue, 22 Apr 2025) EndedAt: 2025-04-22 00:16:12 -0000 (Tue, 22 Apr 2025) EllapsedTime: 46.0 seconds RetCode: 1 Status: ERROR PackageFile: None PackageFileSize: NA