Package: diffuStats Version: 1.28.0 Command: /Library/Frameworks/R.framework/Resources/bin/R CMD INSTALL diffuStats StartedAt: 2025-04-21 15:04:21 -0400 (Mon, 21 Apr 2025) EndedAt: 2025-04-21 15:04:34 -0400 (Mon, 21 Apr 2025) EllapsedTime: 12.6 seconds RetCode: 0 Status: OK