Package: diffuStats Version: 1.28.0 Command: /Library/Frameworks/R.framework/Resources/bin/R CMD check --install=check:diffuStats.install-out.txt --library=/Library/Frameworks/R.framework/Resources/library --no-vignettes --timings diffuStats_1.28.0.tar.gz StartedAt: 2025-04-21 19:08:05 -0400 (Mon, 21 Apr 2025) EndedAt: 2025-04-21 19:08:34 -0400 (Mon, 21 Apr 2025) EllapsedTime: 29.4 seconds RetCode: 0 Status: OK CheckDir: diffuStats.Rcheck Warnings: 0