Package: diffuStats Version: 1.28.0 Command: rm -rf diffuStats.buildbin-libdir && mkdir diffuStats.buildbin-libdir && /Users/biocbuild/BBS/utils/build-universal.sh diffuStats_1.28.0.tar.gz /Library/Frameworks/R.framework/Resources/bin/R diffuStats.buildbin-libdir StartedAt: 2025-04-21 22:33:08 -0400 (Mon, 21 Apr 2025) EndedAt: 2025-04-21 22:33:18 -0400 (Mon, 21 Apr 2025) EllapsedTime: 10.3 seconds RetCode: 0 Status: OK PackageFile: diffuStats_1.28.0.tgz PackageFileSize: 1.428 MiB