Package: diffuStats Version: 1.28.0 Command: /Library/Frameworks/R.framework/Resources/bin/R CMD INSTALL diffuStats StartedAt: 2025-04-28 18:42:51 -0400 (Mon, 28 Apr 2025) EndedAt: 2025-04-28 18:43:02 -0400 (Mon, 28 Apr 2025) EllapsedTime: 10.4 seconds RetCode: 0 Status: OK