Package: diffuStats Version: 1.28.0 Maintainer: Sergio Picart-Armada MaintainerEmail: sergi.picart at upc.edu git_url: https://git.bioconductor.org/packages/diffuStats git_branch: RELEASE_3_21 git_last_commit: 1337c07 git_last_commit_date: 2025-04-15 11:12:34 -0400 (Tue, 15 Apr 2025)