Package: diffGeneAnalysis Version: 1.90.0 Command: /home/biocbuild/bbs-3.21-bioc/R/bin/R CMD INSTALL diffGeneAnalysis StartedAt: 2025-04-27 15:03:56 -0400 (Sun, 27 Apr 2025) EndedAt: 2025-04-27 15:04:05 -0400 (Sun, 27 Apr 2025) EllapsedTime: 9.0 seconds RetCode: 0 Status: OK