Package: diffGeneAnalysis Version: 1.90.0 Command: /home/biocbuild/bbs-3.21-bioc/R/bin/R CMD check --install=check:diffGeneAnalysis.install-out.txt --library=/home/biocbuild/bbs-3.21-bioc/R/site-library --timings diffGeneAnalysis_1.90.0.tar.gz StartedAt: 2025-04-27 22:23:24 -0400 (Sun, 27 Apr 2025) EndedAt: 2025-04-27 22:23:41 -0400 (Sun, 27 Apr 2025) EllapsedTime: 17.0 seconds RetCode: 0 Status: OK CheckDir: diffGeneAnalysis.Rcheck Warnings: 0