Package: diffGeneAnalysis Version: 1.90.0 Command: /home/biocbuild/bbs-3.21-bioc/R/bin/R CMD build --keep-empty-dirs --no-resave-data diffGeneAnalysis StartedAt: 2025-04-27 16:59:08 -0400 (Sun, 27 Apr 2025) EndedAt: 2025-04-27 16:59:13 -0400 (Sun, 27 Apr 2025) EllapsedTime: 5.0 seconds RetCode: 0 Status: OK PackageFile: diffGeneAnalysis_1.90.0.tar.gz PackageFileSize: 213.2 KiB