Package: diffGeneAnalysis Version: 1.90.0 Command: /Library/Frameworks/R.framework/Resources/bin/R CMD INSTALL diffGeneAnalysis StartedAt: 2025-04-21 15:02:30 -0400 (Mon, 21 Apr 2025) EndedAt: 2025-04-21 15:02:33 -0400 (Mon, 21 Apr 2025) EllapsedTime: 3.7 seconds RetCode: 0 Status: OK