Package: diffGeneAnalysis Version: 1.90.0 Command: /Library/Frameworks/R.framework/Resources/bin/R CMD check --install=check:diffGeneAnalysis.install-out.txt --library=/Library/Frameworks/R.framework/Resources/library --no-vignettes --timings diffGeneAnalysis_1.90.0.tar.gz StartedAt: 2025-04-21 19:07:42 -0400 (Mon, 21 Apr 2025) EndedAt: 2025-04-21 19:07:53 -0400 (Mon, 21 Apr 2025) EllapsedTime: 11.1 seconds RetCode: 0 Status: OK CheckDir: diffGeneAnalysis.Rcheck Warnings: 0