Package: diffGeneAnalysis Version: 1.90.0 Command: /Library/Frameworks/R.framework/Resources/bin/R CMD build --keep-empty-dirs --no-resave-data diffGeneAnalysis StartedAt: 2025-04-21 16:10:52 -0400 (Mon, 21 Apr 2025) EndedAt: 2025-04-21 16:10:56 -0400 (Mon, 21 Apr 2025) EllapsedTime: 4.0 seconds RetCode: 0 Status: OK PackageFile: diffGeneAnalysis_1.90.0.tar.gz PackageFileSize: 213.2 KiB