Package: diffGeneAnalysis Version: 1.90.0 Command: rm -rf diffGeneAnalysis.buildbin-libdir && mkdir diffGeneAnalysis.buildbin-libdir && /Users/biocbuild/BBS/utils/build-universal.sh diffGeneAnalysis_1.90.0.tar.gz /Library/Frameworks/R.framework/Resources/bin/R diffGeneAnalysis.buildbin-libdir StartedAt: 2025-04-21 22:33:07 -0400 (Mon, 21 Apr 2025) EndedAt: 2025-04-21 22:33:09 -0400 (Mon, 21 Apr 2025) EllapsedTime: 2.1 seconds RetCode: 0 Status: OK PackageFile: diffGeneAnalysis_1.90.0.tgz PackageFileSize: 250.5 KiB