Package: compcodeR Version: 1.44.0 Command: E:\biocbuild\bbs-3.21-bioc\R\bin\R.exe CMD INSTALL compcodeR StartedAt: 2025-04-24 16:29:56 -0400 (Thu, 24 Apr 2025) EndedAt: 2025-04-24 16:31:03 -0400 (Thu, 24 Apr 2025) EllapsedTime: 67.4 seconds RetCode: 0 Status: OK