Package: compcodeR Version: 1.44.0 Command: E:\biocbuild\bbs-3.21-bioc\R\bin\R.exe CMD check --no-multiarch --install=check:compcodeR.install-out.txt --library=E:\biocbuild\bbs-3.21-bioc\R\library --no-vignettes --timings compcodeR_1.44.0.tar.gz StartedAt: 2025-04-25 02:04:10 -0400 (Fri, 25 Apr 2025) EndedAt: 2025-04-25 02:11:56 -0400 (Fri, 25 Apr 2025) EllapsedTime: 466.1 seconds RetCode: 0 Status: OK CheckDir: compcodeR.Rcheck Warnings: 0