Package: compcodeR Version: 1.44.0 Command: chmod a+r compcodeR -R && E:\biocbuild\bbs-3.21-bioc\R\bin\R.exe CMD build --keep-empty-dirs --no-resave-data compcodeR StartedAt: 2025-04-24 19:17:24 -0400 (Thu, 24 Apr 2025) EndedAt: 2025-04-24 19:18:40 -0400 (Thu, 24 Apr 2025) EllapsedTime: 75.3 seconds RetCode: 0 Status: OK PackageFile: compcodeR_1.44.0.tar.gz PackageFileSize: 4.687 MiB