Package: compcodeR Version: 1.44.0 Command: rm -rf compcodeR.buildbin-libdir && mkdir compcodeR.buildbin-libdir && E:\biocbuild\bbs-3.21-bioc\R\bin\R.exe CMD INSTALL --build --library=compcodeR.buildbin-libdir compcodeR_1.44.0.tar.gz StartedAt: 2025-04-25 10:04:38 -0400 (Fri, 25 Apr 2025) EndedAt: 2025-04-25 10:05:51 -0400 (Fri, 25 Apr 2025) EllapsedTime: 72.7 seconds RetCode: 0 Status: OK PackageFile: compcodeR_1.44.0.zip PackageFileSize: 2.654 MiB