Package: basilisk.utils Version: 1.20.0 Maintainer: Aaron Lun MaintainerEmail: infinite.monkeys.with.keyboards at gmail.com git_url: https://git.bioconductor.org/packages/basilisk.utils git_branch: RELEASE_3_21 git_last_commit: 6e619c6 git_last_commit_date: 2025-04-15 11:54:50 -0400 (Tue, 15 Apr 2025)