Package: arrayQualityMetrics Version: 3.64.0 Command: /home/biocbuild/bbs-3.21-bioc/R/bin/R CMD INSTALL arrayQualityMetrics StartedAt: 2025-04-27 15:28:56 -0400 (Sun, 27 Apr 2025) EndedAt: 2025-04-27 15:29:20 -0400 (Sun, 27 Apr 2025) EllapsedTime: 23.7 seconds RetCode: 0 Status: OK