Package: arrayQualityMetrics Version: 3.64.0 Command: /home/biocbuild/bbs-3.21-bioc/R/bin/R CMD check --install=check:arrayQualityMetrics.install-out.txt --library=/home/biocbuild/bbs-3.21-bioc/R/site-library --timings arrayQualityMetrics_3.64.0.tar.gz StartedAt: 2025-04-27 20:35:06 -0400 (Sun, 27 Apr 2025) EndedAt: 2025-04-27 20:44:02 -0400 (Sun, 27 Apr 2025) EllapsedTime: 535.8 seconds RetCode: 0 Status: OK CheckDir: arrayQualityMetrics.Rcheck Warnings: 0