Package: arrayQualityMetrics Version: 3.64.0 Command: /home/biocbuild/bbs-3.21-bioc/R/bin/R CMD build --keep-empty-dirs --no-resave-data arrayQualityMetrics StartedAt: 2025-04-27 16:09:28 -0400 (Sun, 27 Apr 2025) EndedAt: 2025-04-27 16:17:18 -0400 (Sun, 27 Apr 2025) EllapsedTime: 469.5 seconds RetCode: 0 Status: OK PackageFile: arrayQualityMetrics_3.64.0.tar.gz PackageFileSize: 596.4 KiB