Package: arrayQualityMetrics Version: 3.64.0 Command: /Library/Frameworks/R.framework/Resources/bin/R CMD INSTALL arrayQualityMetrics StartedAt: 2025-04-21 15:24:47 -0400 (Mon, 21 Apr 2025) EndedAt: 2025-04-21 15:25:20 -0400 (Mon, 21 Apr 2025) EllapsedTime: 33.0 seconds RetCode: 0 Status: OK