Package: arrayQualityMetrics Version: 3.64.0 Command: /home/biocbuild/R/R/bin/R CMD INSTALL arrayQualityMetrics StartedAt: 2025-04-21 20:44:52 -0000 (Mon, 21 Apr 2025) EndedAt: 2025-04-21 20:45:25 -0000 (Mon, 21 Apr 2025) EllapsedTime: 32.9 seconds RetCode: 0 Status: OK