Package: arrayQualityMetrics Version: 3.64.0 Command: /home/biocbuild/R/R/bin/R CMD check --install=check:arrayQualityMetrics.install-out.txt --library=/home/biocbuild/R/R/site-library --no-vignettes --timings arrayQualityMetrics_3.64.0.tar.gz StartedAt: 2025-04-22 06:02:09 -0000 (Tue, 22 Apr 2025) EndedAt: 2025-04-22 06:05:21 -0000 (Tue, 22 Apr 2025) EllapsedTime: 192.3 seconds RetCode: 0 Status: OK CheckDir: arrayQualityMetrics.Rcheck Warnings: 0