Package: arrayQualityMetrics Version: 3.64.0 Command: /home/biocbuild/R/R/bin/R CMD build --keep-empty-dirs --no-resave-data arrayQualityMetrics StartedAt: 2025-04-21 22:35:19 -0000 (Mon, 21 Apr 2025) EndedAt: 2025-04-21 22:44:29 -0000 (Mon, 21 Apr 2025) EllapsedTime: 550.1 seconds RetCode: 0 Status: OK PackageFile: arrayQualityMetrics_3.64.0.tar.gz PackageFileSize: 582.6 KiB